BEGIN:VCALENDAR
VERSION:2.0
PRODID:-//TYPO3/NONSGML News system (news)//EN
BEGIN:VEVENT
UID:news-5207@see.asseco.com
ORGANIZER:
DTSTAMP:20240111T094530Z
DTSTART:20240325T093500
DTEND:20240424T083500
SUMMARY:Closed period 25.03.2024 – 24.04.2024
LOCATION:
END:VEVENT
END:VCALENDAR