BEGIN:VCALENDAR
VERSION:2.0
PRODID:-//TYPO3/NONSGML News system (news)//EN
BEGIN:VEVENT
UID:news-3386@see.asseco.com
ORGANIZER:
DTSTAMP:20190926T135333Z
DTSTART:20191205T070000
DTEND:
SUMMARY:4th Annual Smart City Industry Awards
LOCATION:Bucharest, Romania
END:VEVENT
END:VCALENDAR