BEGIN:VCALENDAR
VERSION:2.0
PRODID:-//TYPO3/NONSGML News system (news)//EN
BEGIN:VEVENT
UID:news-2597@see.asseco.com
ORGANIZER:
DTSTAMP:20170928T105150Z
DTSTART:20170921T104500
DTEND:20170921T104700
SUMMARY:ASEE Gold Partner at Diebold Nixdorf Conference
LOCATION:
END:VEVENT
END:VCALENDAR