BEGIN:VCALENDAR
VERSION:2.0
PRODID:-//TYPO3/NONSGML News system (news)//EN
BEGIN:VEVENT
UID:news-2824@see.asseco.com
ORGANIZER:
DTSTAMP:20180514T094604Z
DTSTART:20180530T060000
DTEND:
SUMMARY:Asseco New Banking Vision 2018 in Bulgaria 
LOCATION:Sense Hotel, Sofia - Bulgaria
END:VEVENT
END:VCALENDAR