BEGIN:VCALENDAR
VERSION:2.0
PRODID:-//TYPO3/NONSGML News system (news)//EN
BEGIN:VEVENT
UID:news-2825@see.asseco.com
ORGANIZER:
DTSTAMP:20180514T131446Z
DTSTART:20180524T060000
DTEND:
SUMMARY:Asseco SEE &amp; Payten New Banking Vision 2018 in Romania 
LOCATION:Stejarii Country Club, Bucharest - Romania
END:VEVENT
END:VCALENDAR