BEGIN:VCALENDAR
VERSION:2.0
PRODID:-//TYPO3/NONSGML News system (news)//EN
BEGIN:VEVENT
UID:news-2985@see.asseco.com
ORGANIZER:
DTSTAMP:20181002T084215Z
DTSTART:20181108T084600
DTEND:20181110T084400
SUMMARY:Asseco SEE Presents Asseco Live solution at Best Stay Conference
LOCATION:Dubrovnik, Croatia
END:VEVENT
END:VCALENDAR