BEGIN:VCALENDAR
VERSION:2.0
PRODID:-//TYPO3/NONSGML News system (news)//EN
BEGIN:VEVENT
UID:news-3023@see.asseco.com
ORGANIZER:
DTSTAMP:20181113T094255Z
DTSTART:20181115T092300
DTEND:
SUMMARY:Asseco SEE Romania Silver Partner at IDC Financial Forum in Bucharest on November 15, 2018
LOCATION:Stejarii Country Club, Bucharest, Romania
END:VEVENT
END:VCALENDAR