BEGIN:VCALENDAR
VERSION:2.0
PRODID:-//TYPO3/NONSGML News system (news)//EN
BEGIN:VEVENT
UID:news-2598@see.asseco.com
ORGANIZER:
DTSTAMP:20170928T111627Z
DTSTART:20170923T060000
DTEND:
SUMMARY:Asseco SEE supports Novathon #withPBZ
LOCATION:Zagreb, Croatia
END:VEVENT
END:VCALENDAR