BEGIN:VCALENDAR
VERSION:2.0
PRODID:-//TYPO3/NONSGML News system (news)//EN
BEGIN:VEVENT
UID:news-3041@see.asseco.com
ORGANIZER:
DTSTAMP:20181121T122406Z
DTSTART:20190116T080000
DTEND:20190117T140000
SUMMARY:Asseco SEE Turkey to Sponsor 5th Middle East Leasing Summit 2019 
LOCATION:Dubai
END:VEVENT
END:VCALENDAR