BEGIN:VCALENDAR
VERSION:2.0
PRODID:-//TYPO3/NONSGML News system (news)//EN
BEGIN:VEVENT
UID:news-2954@see.asseco.com
ORGANIZER:
DTSTAMP:20180910T135745Z
DTSTART:20180920T060000
DTEND:
SUMMARY:Asseco SEE Turkey to Sponsor G-Summit Turkey
LOCATION:Çırağan Palace Kempinski İstanbul
END:VEVENT
END:VCALENDAR