BEGIN:VCALENDAR
VERSION:2.0
PRODID:-//TYPO3/NONSGML News system (news)//EN
BEGIN:VEVENT
UID:news-2600@see.asseco.com
ORGANIZER:
DTSTAMP:20170928T111323Z
DTSTART:20170921T120000
DTEND:20170921T130000
SUMMARY:Free Webinar: PSD2 (XS2A) API Enabler Package
LOCATION:Online
END:VEVENT
END:VCALENDAR