BEGIN:VCALENDAR
VERSION:2.0
PRODID:-//TYPO3/NONSGML News system (news)//EN
BEGIN:VEVENT
UID:news-2890@see.asseco.com
ORGANIZER:
DTSTAMP:20180621T102415Z
DTSTART:20180704T120000
DTEND:
SUMMARY:How to make secure online payments simple with 3D Secure 2.0?
LOCATION:Online
END:VEVENT
END:VCALENDAR