BEGIN:VCALENDAR
VERSION:2.0
PRODID:-//TYPO3/NONSGML News system (news)//EN
BEGIN:VEVENT
UID:news-2660@see.asseco.com
ORGANIZER:
DTSTAMP:20171208T102943Z
DTSTART:20171212T103000
DTEND:
SUMMARY:Join us at Fast-forward Banking!
LOCATION:Crowne Plaza, Belgrade
END:VEVENT
END:VCALENDAR