BEGIN:VCALENDAR
VERSION:2.0
PRODID:-//TYPO3/NONSGML News system (news)//EN
BEGIN:VEVENT
UID:news-3002@see.asseco.com
ORGANIZER:
DTSTAMP:20181022T095500Z
DTSTART:20181106T105400
DTEND:
SUMMARY:Microsoft Business Summit, 6th edition
LOCATION:Romania
END:VEVENT
END:VCALENDAR