BEGIN:VCALENDAR
VERSION:2.0
PRODID:-//TYPO3/NONSGML News system (news)//EN
BEGIN:VEVENT
UID:news-3949@see.asseco.com
ORGANIZER:
DTSTAMP:20200708T095615Z
DTSTART:20200714T085900
DTEND:
SUMMARY:New demands drive new opportunities.  A deep dive into whys &amp; hows of virtual branching 
LOCATION:July 14, 11am GMT+2, webinar will be hosted in Italian
END:VEVENT
END:VCALENDAR