BEGIN:VCALENDAR
VERSION:2.0
PRODID:-//TYPO3/NONSGML News system (news)//EN
BEGIN:VEVENT
UID:news-2751@see.asseco.com
ORGANIZER:
DTSTAMP:20180319T122535Z
DTSTART:20180315T130000
DTEND:
SUMMARY:ON-DEMAND WEBINAR: Solve Your Compliance Puzzle with PSD2 Enabler
LOCATION:Online
END:VEVENT
END:VCALENDAR