BEGIN:VCALENDAR
VERSION:2.0
PRODID:-//TYPO3/NONSGML News system (news)//EN
BEGIN:VEVENT
UID:news-3007@see.asseco.com
ORGANIZER:
DTSTAMP:20181102T140216Z
DTSTART:20181107T082000
DTEND:20181108T082600
SUMMARY:Power Energy Tech Exhibition and Conference
LOCATION:JW Marriott Bucharest Grand Hotel, Romania
END:VEVENT
END:VCALENDAR