BEGIN:VCALENDAR
VERSION:2.0
PRODID:-//TYPO3/NONSGML News system (news)//EN
BEGIN:VEVENT
UID:news-2981@see.asseco.com
ORGANIZER:
DTSTAMP:20181001T065956Z
DTSTART:20180924T065700
DTEND:20180926T065700
SUMMARY:SmartCard 2018
LOCATION:Opatija, Croatia
END:VEVENT
END:VCALENDAR