BEGIN:VCALENDAR
VERSION:2.0
PRODID:-//TYPO3/NONSGML News system (news)//EN
BEGIN:VEVENT
UID:news-2768@see.asseco.com
ORGANIZER:
DTSTAMP:20180316T141433Z
DTSTART:20180403T131400
DTEND:20180403T130100
SUMMARY:Workshop on Advanced Threats 
LOCATION:Bucharest
END:VEVENT
END:VCALENDAR